BEGIN:VCALENDAR
VERSION:2.0
PRODID:-//InStaff und Jobs GmbH
BEGIN:VEVENT
UID:ed21308945a183b7d9342a88fba4203d@instaff.jobs
DTSTAMP:20260425T122156Z
LOCATION:HCC Hannover Congress Centrum\, Theodor-Heuss-Platz 1-3\, 30175 Hannover
DTSTART;TZID=Europe/Brussels:20250221T070000Z
DTEND;TZID=Europe/Brussels:20250222T160000Z
SUMMARY:34 beruf & bildung Hannover 2025
DESCRIPTION:https://www.google.com/maps/search/?api=1&query=HCC+Hannover+Congress+Centrum%2C+Theodor-Heuss-Platz+1-3%2C+30175+Hannover
END:VEVENT
END:VCALENDAR