BEGIN:VCALENDAR
VERSION:2.0
PRODID:-//InStaff und Jobs GmbH
BEGIN:VEVENT
UID:2bd357587bf58775acead7fc6981078f@instaff.jobs
DTSTAMP:20260425T122155Z
LOCATION:Alte Druckerei Hannover\, August-Madsack-Straße 1\, 30559 Hannover
DTSTART;TZID=Europe/Brussels:20251011T070000Z
DTEND;TZID=Europe/Brussels:20251012T160000Z
SUMMARY:Apothekentour Hannover 2025
DESCRIPTION:https://www.google.com/maps/search/?api=1&query=Alte+Druckerei+Hannover%2C+August-Madsack-Straße+1%2C+30559+Hannover
END:VEVENT
END:VCALENDAR