BEGIN:VCALENDAR
VERSION:2.0
PRODID:-//InStaff und Jobs GmbH
BEGIN:VEVENT
UID:ac1b1a8ca4e78b68cd8657527c73a242@instaff.jobs
DTSTAMP:20260425T122207Z
LOCATION:Kulturzentrum Freizeitheim Vahrenwald\, Vahrenwalder Str\. 92\, 30165 Hannover
DTSTART;TZID=Europe/Brussels:20250830T070000Z
DTEND;TZID=Europe/Brussels:20250830T160000Z
SUMMARY:AUF IN DIE WELT Hannover (3) 2025
DESCRIPTION:https://www.google.com/maps/search/?api=1&query=Kulturzentrum+Freizeitheim+Vahrenwald%2C+Vahrenwalder+Str.+92%2C+30165+Hannover
END:VEVENT
END:VCALENDAR