BEGIN:VCALENDAR
VERSION:2.0
PRODID:-//InStaff und Jobs GmbH
BEGIN:VEVENT
UID:cb2ee31cb292a6a234d311ee24e08584@instaff.jobs
DTSTAMP:20260425T122207Z
LOCATION:Tellkampfschule\, Aula Rudolf-von-Benningsen-Ufer\, 30173 Hannover
DTSTART;TZID=Europe/Brussels:20250621T070000Z
DTEND;TZID=Europe/Brussels:20250621T160000Z
SUMMARY:JuBi – Die JugendBildungsmesse Hannover (2) 2025
DESCRIPTION:https://www.google.com/maps/search/?api=1&query=Tellkampfschule%2C+Aula+Rudolf-von-Benningsen-Ufer%2C+30173+Hannover
END:VEVENT
END:VCALENDAR