BEGIN:VCALENDAR
VERSION:2.0
PRODID:-//InStaff und Jobs GmbH
BEGIN:VEVENT
UID:ebaaae2eda056bed92649cb470ca8ee3@instaff.jobs
DTSTAMP:20260425T122207Z
LOCATION:Humboldtschule\, Ricklinger Straße 95\, 30449 Hannover
DTSTART;TZID=Europe/Brussels:20250215T070000Z
DTEND;TZID=Europe/Brussels:20250215T160000Z
SUMMARY:JuBi – Die JugendBildungsmesse Hannover 2025
DESCRIPTION:https://www.google.com/maps/search/?api=1&query=Humboldtschule%2C+Ricklinger+Straße+95%2C+30449+Hannover
END:VEVENT
END:VCALENDAR