BEGIN:VCALENDAR
VERSION:2.0
PRODID:-//InStaff und Jobs GmbH
BEGIN:VEVENT
UID:ee7ef2d71e28340421acaec841e42639@instaff.jobs
DTSTAMP:20260425T121044Z
LOCATION:CongressCentrum \| Wienecke XI\.\, Hildesheimer Str\. 380\, 30519 Hannover
DTSTART;TZID=Europe/Brussels:20250521T070000Z
DTEND;TZID=Europe/Brussels:20250521T160000Z
SUMMARY:LAB-SUPPLY Hannover 2025
DESCRIPTION:https://www.google.com/maps/search/?api=1&query=CongressCentrum+|+Wienecke+XI.%2C+Hildesheimer+Str.+380%2C+30519+Hannover
END:VEVENT
END:VCALENDAR