BEGIN:VCALENDAR
VERSION:2.0
PRODID:-//InStaff und Jobs GmbH
BEGIN:VEVENT
UID:8f8511cf6c14b5fd924b95ef124b6815@instaff.jobs
DTSTAMP:20260425T122156Z
LOCATION:Hannover Messe\, Messegelände\, 30521 Hannover
DTSTART;TZID=Europe/Brussels:20251204T070000Z
DTEND;TZID=Europe/Brussels:20251207T160000Z
SUMMARY:PASSION PFERD 2025
DESCRIPTION:https://www.google.com/maps/search/?api=1&query=Hannover+Messe%2C+Messegelände%2C+30521+Hannover
END:VEVENT
END:VCALENDAR