BEGIN:VCALENDAR
VERSION:2.0
PRODID:-//InStaff und Jobs GmbH
BEGIN:VEVENT
UID:09f9d69dc5d3b8d6b5a656b33f5f2cff@instaff.jobs
DTSTAMP:20260425T121044Z
LOCATION:CongressCentrum Wienecke XI\. Hannover\, Hildesheimer Straße 380\, 30519 Hannover
DTSTART;TZID=Europe/Brussels:20250319T070000Z
DTEND;TZID=Europe/Brussels:20250319T160000Z
SUMMARY:SchraubTec Hannover 2025
DESCRIPTION:https://www.google.com/maps/search/?api=1&query=CongressCentrum+Wienecke+XI.+Hannover%2C+Hildesheimer+Straße+380%2C+30519+Hannover
END:VEVENT
END:VCALENDAR