BEGIN:VCALENDAR
VERSION:2.0
PRODID:-//InStaff und Jobs GmbH
BEGIN:VEVENT
UID:8357906cb90909f9e1d11d6e5e338f80@instaff.jobs
DTSTAMP:20260425T121004Z
LOCATION:Hannover Congress Centrum\, Theodor-Heuss-Platz 1-3\, 30175 Hannover
DTSTART;TZID=Europe/Brussels:20250319T070000Z
DTEND;TZID=Europe/Brussels:20250320T160000Z
SUMMARY:secIT by heise 2025
DESCRIPTION:https://www.google.com/maps/search/?api=1&query=Hannover+Congress+Centrum%2C+Theodor-Heuss-Platz+1-3%2C+30175+Hannover
END:VEVENT
END:VCALENDAR