BEGIN:VCALENDAR
VERSION:2.0
PRODID:-//InStaff und Jobs GmbH
BEGIN:VEVENT
UID:8841bea205ab0d45c3bf752c8a6676a7@instaff.jobs
DTSTAMP:20260425T122156Z
LOCATION:Niedersachsenhalle im Hannover Congress Centrum\, Theodor-Heuss-Platz 1-3\, 30175 Hannover
DTSTART;TZID=Europe/Brussels:20250301T070000Z
DTEND;TZID=Europe/Brussels:20250302T160000Z
SUMMARY:WeinHannover 2025
DESCRIPTION:https://www.google.com/maps/search/?api=1&query=Niedersachsenhalle+im+Hannover+Congress+Centrum%2C+Theodor-Heuss-Platz+1-3%2C+30175+Hannover
END:VEVENT
END:VCALENDAR