BEGIN:VCALENDAR
VERSION:2.0
PRODID:-//InStaff und Jobs GmbH
BEGIN:VEVENT
UID:d5c50c255a46b36cc96a91ebf38d7554@instaff.jobs
DTSTAMP:20260419T235808Z
LOCATION:Messe Karlsruhe\, Messeallee 1\, 76287 Rheinstetten
DTSTART;TZID=Europe/Brussels:20250309T070000Z
DTEND;TZID=Europe/Brussels:20250310T160000Z
SUMMARY:EUROVINO 2025
DESCRIPTION:https://www.google.com/maps/search/?api=1&query=Messe+Karlsruhe%2C+Messeallee+1%2C+76287+Rheinstetten
END:VEVENT
BEGIN:VEVENT
UID:ed02edb09cea6940f104bf79e4267756@instaff.jobs
DTSTAMP:20260419T235808Z
LOCATION:Schwarzwaldhalle\, Festplatz 5\, 76137 Karlsruhe
DTSTART;TZID=Europe/Brussels:20250410T070000Z
DTEND;TZID=Europe/Brussels:20250410T160000Z
SUMMARY:Karrieretag Karlsruhe 2025
DESCRIPTION:https://www.google.com/maps/search/?api=1&query=Schwarzwaldhalle%2C+Festplatz+5%2C+76137+Karlsruhe
END:VEVENT
BEGIN:VEVENT
UID:1136323cba46ffd01a35cbd468cff642@instaff.jobs
DTSTAMP:20260419T235808Z
LOCATION:Messe Karlsruhe\, Messeallee 1\, 76287 Rheinstetten
DTSTART;TZID=Europe/Brussels:20250506T070000Z
DTEND;TZID=Europe/Brussels:20250508T160000Z
SUMMARY:LEARNTEC 2025
DESCRIPTION:https://www.google.com/maps/search/?api=1&query=Messe+Karlsruhe%2C+Messeallee+1%2C+76287+Rheinstetten
END:VEVENT
BEGIN:VEVENT
UID:81445aaffcfd44c95d4b1dffaf2e503c@instaff.jobs
DTSTAMP:20260419T235808Z
LOCATION:Messe Karlsruhe\, Messeallee 1\, 76287 Rheinstetten
DTSTART;TZID=Europe/Brussels:20250506T070000Z
DTEND;TZID=Europe/Brussels:20250508T160000Z
SUMMARY:NEW WORK EVOLUTION 2025
DESCRIPTION:https://www.google.com/maps/search/?api=1&query=Messe+Karlsruhe%2C+Messeallee+1%2C+76287+Rheinstetten
END:VEVENT
BEGIN:VEVENT
UID:b9398e484350969330a7bdd91b5bed17@instaff.jobs
DTSTAMP:20260419T235808Z
LOCATION:Messe Karlsruhe\, Messeallee 1\, 76287 Rheinstetten
DTSTART;TZID=Europe/Brussels:20250522T070000Z
DTEND;TZID=Europe/Brussels:20250524T160000Z
SUMMARY:REHAB Karlsruhe 2025
DESCRIPTION:https://www.google.com/maps/search/?api=1&query=Messe+Karlsruhe%2C+Messeallee+1%2C+76287+Rheinstetten
END:VEVENT
BEGIN:VEVENT
UID:ebb3e9dbc7ea45683fc72e42e944db80@instaff.jobs
DTSTAMP:20260419T235808Z
LOCATION:GenoHotel Karlsruhe\, Am Rüppurrer Schloss 40\, 76199 Karlsruhe
DTSTART;TZID=Europe/Brussels:20250526T070000Z
DTEND;TZID=Europe/Brussels:20250526T160000Z
SUMMARY:CAREER Venture business & consulting summer Karlsruhe 2025
DESCRIPTION:https://www.google.com/maps/search/?api=1&query=GenoHotel+Karlsruhe%2C+Am+Rüppurrer+Schloss+40%2C+76199+Karlsruhe
END:VEVENT
BEGIN:VEVENT
UID:16832508575bf26236332e563dff6513@instaff.jobs
DTSTAMP:20260419T235808Z
LOCATION:Gartenhalle Kongresszentrum Karlsruhe\, Festplatz 9\, 76137 Karlsruhe
DTSTART;TZID=Europe/Brussels:20250603T070000Z
DTEND;TZID=Europe/Brussels:20250604T160000Z
SUMMARY:vocatium Karlsruhe 2025
DESCRIPTION:https://www.google.com/maps/search/?api=1&query=Gartenhalle+Kongresszentrum+Karlsruhe%2C+Festplatz+9%2C+76137+Karlsruhe
END:VEVENT
BEGIN:VEVENT
UID:303fa61dd2f284ed9ddfd6a61469172e@instaff.jobs
DTSTAMP:20260419T235808Z
LOCATION:IHK Karlsruhe\, Lammstraße 13-17\, 76133 Karlsruhe
DTSTART;TZID=Europe/Brussels:20250924T070000Z
DTEND;TZID=Europe/Brussels:20250924T160000Z
SUMMARY:heise Jobs IT Tag Karlsruhe 2025
DESCRIPTION:https://www.google.com/maps/search/?api=1&query=IHK+Karlsruhe%2C+Lammstraße+13-17%2C+76133+Karlsruhe
END:VEVENT
BEGIN:VEVENT
UID:83c662af92e7316141e2e0286fdf842e@instaff.jobs
DTSTAMP:20260419T235808Z
LOCATION:Messe Karlsruhe\, Messeallee 1\, 76287 Rheinstetten
DTSTART;TZID=Europe/Brussels:20250925T070000Z
DTEND;TZID=Europe/Brussels:20250928T160000Z
SUMMARY:NUFAM 2025
DESCRIPTION:https://www.google.com/maps/search/?api=1&query=Messe+Karlsruhe%2C+Messeallee+1%2C+76287+Rheinstetten
END:VEVENT
BEGIN:VEVENT
UID:c2c9c49d79c7f5e0ea37d2faa47c0902@instaff.jobs
DTSTAMP:20260419T235808Z
LOCATION:Schwarzwaldhalle Karlsruhe\, Festpl\. 5\, 76137 Karlsruhe
DTSTART;TZID=Europe/Brussels:20250927T070000Z
DTEND;TZID=Europe/Brussels:20250927T160000Z
SUMMARY:einstieg Karlsruhe 2025
DESCRIPTION:https://www.google.com/maps/search/?api=1&query=Schwarzwaldhalle+Karlsruhe%2C+Festpl.+5%2C+76137+Karlsruhe
END:VEVENT
BEGIN:VEVENT
UID:416162f01dd534e1fc0560ab1e43e5a4@instaff.jobs
DTSTAMP:20260419T235808Z
LOCATION:Messe Karlsruhe\, Messeallee 1\, 76287 Rheinstetten
DTSTART;TZID=Europe/Brussels:20251009T070000Z
DTEND;TZID=Europe/Brussels:20251011T160000Z
SUMMARY:RecyclingAKTIV & TiefbauLIVE (RATL) 2025
DESCRIPTION:https://www.google.com/maps/search/?api=1&query=Messe+Karlsruhe%2C+Messeallee+1%2C+76287+Rheinstetten
END:VEVENT
BEGIN:VEVENT
UID:82d558889ea7cf62152d3309c756cd3f@instaff.jobs
DTSTAMP:20260419T235808Z
LOCATION:Schwarzwaldhalle\, Festplatz 5\, 76137 Karlsruhe
DTSTART;TZID=Europe/Brussels:20251022T070000Z
DTEND;TZID=Europe/Brussels:20251022T160000Z
SUMMARY:Karrieretag Karlsruhe 2025 (2)
DESCRIPTION:https://www.google.com/maps/search/?api=1&query=Schwarzwaldhalle%2C+Festplatz+5%2C+76137+Karlsruhe
END:VEVENT
BEGIN:VEVENT
UID:fd571f1383f05ddf9c63d9c39e953cca@instaff.jobs
DTSTAMP:20260419T235808Z
LOCATION:Gartenhalle Kongresszentrum Karlsruhe\, Festplatz 3\, 76137 Karlsruhe
DTSTART;TZID=Europe/Brussels:20251025T070000Z
DTEND;TZID=Europe/Brussels:20251026T160000Z
SUMMARY:Apothekentour Karlsruhe 2025
DESCRIPTION:https://www.google.com/maps/search/?api=1&query=Gartenhalle+Kongresszentrum+Karlsruhe%2C+Festplatz+3%2C+76137+Karlsruhe
END:VEVENT
BEGIN:VEVENT
UID:aad7098ed54512325aeba720e36dd54a@instaff.jobs
DTSTAMP:20260419T235808Z
LOCATION:Messe Karlsruhe\, Messeallee 1\, 76287 Rheinstetten
DTSTART;TZID=Europe/Brussels:20251025T070000Z
DTEND;TZID=Europe/Brussels:20251026T160000Z
SUMMARY:kreativ Karlsruhe Herbstleuchten 2025
DESCRIPTION:https://www.google.com/maps/search/?api=1&query=Messe+Karlsruhe%2C+Messeallee+1%2C+76287+Rheinstetten
END:VEVENT
BEGIN:VEVENT
UID:ff550f230c828b704825d349d4e055ba@instaff.jobs
DTSTAMP:20260419T235808Z
LOCATION:Messe Karlsruhe\, Messeallee 1\, 76287 Rheinstetten
DTSTART;TZID=Europe/Brussels:20251025T070000Z
DTEND;TZID=Europe/Brussels:20251102T160000Z
SUMMARY:offerta Karlsruhe 2025
DESCRIPTION:https://www.google.com/maps/search/?api=1&query=Messe+Karlsruhe%2C+Messeallee+1%2C+76287+Rheinstetten
END:VEVENT
BEGIN:VEVENT
UID:62db874cea149f33a762c8b5d201a117@instaff.jobs
DTSTAMP:20260419T235808Z
LOCATION:Messe Karlsruhe\, Messeallee 1\, 76287 Rheinstetten
DTSTART;TZID=Europe/Brussels:20251112T070000Z
DTEND;TZID=Europe/Brussels:20251113T160000Z
SUMMARY:DIKITALE 2025
DESCRIPTION:https://www.google.com/maps/search/?api=1&query=Messe+Karlsruhe%2C+Messeallee+1%2C+76287+Rheinstetten
END:VEVENT
BEGIN:VEVENT
UID:e094c3c998f5756554b367edff0405df@instaff.jobs
DTSTAMP:20260419T235808Z
LOCATION:Messe Karlsruhe\, Messeallee 1\, 76287 Rheinstetten
DTSTART;TZID=Europe/Brussels:20251119T070000Z
DTEND;TZID=Europe/Brussels:20251120T160000Z
SUMMARY:expoDirekt 2025
DESCRIPTION:https://www.google.com/maps/search/?api=1&query=Messe+Karlsruhe%2C+Messeallee+1%2C+76287+Rheinstetten
END:VEVENT
BEGIN:VEVENT
UID:3ef13becb7f255711e643908dd2616f3@instaff.jobs
DTSTAMP:20260419T235808Z
LOCATION:Messe Karlsruhe\, Messeallee 1\, 76287 Rheinstetten
DTSTART;TZID=Europe/Brussels:20251119T070000Z
DTEND;TZID=Europe/Brussels:20251120T160000Z
SUMMARY:expoSE 2025
DESCRIPTION:https://www.google.com/maps/search/?api=1&query=Messe+Karlsruhe%2C+Messeallee+1%2C+76287+Rheinstetten
END:VEVENT
BEGIN:VEVENT
UID:fab3ae9b7d1a2ec96d5704b8d9c3dd00@instaff.jobs
DTSTAMP:20260419T235808Z
LOCATION:Europäische Schule Karlsruhe\, Albert-Schweitzer-Str\. 1\, 76139 Karlsruhe
DTSTART;TZID=Europe/Brussels:20251122T070000Z
DTEND;TZID=Europe/Brussels:20251122T160000Z
SUMMARY:JuBi – Die JugendBildungsmesse Karlsruhe 2025
DESCRIPTION:https://www.google.com/maps/search/?api=1&query=Europäische+Schule+Karlsruhe%2C+Albert-Schweitzer-Str.+1%2C+76139+Karlsruhe
END:VEVENT
BEGIN:VEVENT
UID:e24bf3011efa94793c78ac81002aea8a@instaff.jobs
DTSTAMP:20260419T235808Z
LOCATION:Messe Karlsruhe\, Messeallee 1\, 76287 Rheinstetten
DTSTART;TZID=Europe/Brussels:20251129T070000Z
DTEND;TZID=Europe/Brussels:20251130T160000Z
SUMMARY:TIERisch gut 2025
DESCRIPTION:https://www.google.com/maps/search/?api=1&query=Messe+Karlsruhe%2C+Messeallee+1%2C+76287+Rheinstetten
END:VEVENT
END:VCALENDAR