BEGIN:VCALENDAR
VERSION:2.0
PRODID:-//InStaff und Jobs GmbH
BEGIN:VEVENT
UID:255053af5d1a4c05e4acc0ed9cd49fb5@instaff.jobs
DTSTAMP:20260419T131852Z
LOCATION:Koelnmesse\, Messepl\. 1\, 50679 Köln
DTSTART;TZID=Europe/Brussels:20250611T070000Z
DTEND;TZID=Europe/Brussels:20250612T160000Z
SUMMARY:iVT Expo 2025
DESCRIPTION:https://www.google.com/maps/search/?api=1&query=Koelnmesse%2C+Messepl.+1%2C+50679+Köln
END:VEVENT
END:VCALENDAR