BEGIN:VCALENDAR
VERSION:2.0
PRODID:-//InStaff und Jobs GmbH
BEGIN:VEVENT
UID:7ed62427a96fcfbf51180e07e1289f3a@instaff.jobs
DTSTAMP:20260419T150953Z
LOCATION:Nürburgring\, Otto-Flimm-Straße\, 53520 Nürburg
DTSTART;TZID=Europe/Brussels:20250801T070000Z
DTEND;TZID=Europe/Brussels:20250803T160000Z
SUMMARY:Belmot-Oldtimer-Grand-Prix 2025
DESCRIPTION:https://www.google.com/maps/search/?api=1&query=Nürburgring%2C+Otto-Flimm-Straße%2C+53520+Nürburg
END:VEVENT
END:VCALENDAR