BEGIN:VCALENDAR
VERSION:2.0
PRODID:-//InStaff und Jobs GmbH
BEGIN:VEVENT
UID:52c7f74fa080f0558e239ed95985eab1@instaff.jobs
DTSTAMP:20260423T192022Z
LOCATION:Messe Nürnberg\, Messezentrum 1\, 90471 Nürnberg
DTSTART;TZID=Europe/Brussels:20251209T070000Z
DTEND;TZID=Europe/Brussels:20251211T160000Z
SUMMARY:BIOGAS Convention 2025
DESCRIPTION:https://www.google.com/maps/search/?api=1&query=Messe+Nürnberg%2C+Messezentrum+1%2C+90471+Nürnberg
END:VEVENT
END:VCALENDAR