BEGIN:VCALENDAR
VERSION:2.0
PRODID:-//InStaff und Jobs GmbH
BEGIN:VEVENT
UID:a3c351f26de601321424cc54ff163ebf@instaff.jobs
DTSTAMP:20260423T192052Z
LOCATION:Messe Nürnberg\, Messezentrum 1\, 90471 Nürnberg
DTSTART;TZID=Europe/Brussels:20251029T070000Z
DTEND;TZID=Europe/Brussels:20251030T160000Z
SUMMARY:ConSozial 2025
DESCRIPTION:https://www.google.com/maps/search/?api=1&query=Messe+Nürnberg%2C+Messezentrum+1%2C+90471+Nürnberg
END:VEVENT
END:VCALENDAR