BEGIN:VCALENDAR
VERSION:2.0
PRODID:-//InStaff und Jobs GmbH
BEGIN:VEVENT
UID:39a256ec0a2db2eb2691bf6d599f4a4c@instaff.jobs
DTSTAMP:20260423T191702Z
LOCATION:Nürnberg Convention Center NCC Ost\, Messezentrum\, 90471 Nürnberg
DTSTART;TZID=Europe/Brussels:20250515T070000Z
DTEND;TZID=Europe/Brussels:20250517T160000Z
SUMMARY:DOC 2025
DESCRIPTION:https://www.google.com/maps/search/?api=1&query=Nürnberg+Convention+Center+NCC+Ost%2C+Messezentrum%2C+90471+Nürnberg
END:VEVENT
END:VCALENDAR