BEGIN:VCALENDAR
VERSION:2.0
PRODID:-//InStaff und Jobs GmbH
BEGIN:VEVENT
UID:b5d6e20a7e022f993171a64df6fee774@instaff.jobs
DTSTAMP:20260423T191723Z
LOCATION:Messe Nürnberg\, Messezentrum 1\, 90471 Nürnberg
DTSTART;TZID=Europe/Brussels:20250520T070000Z
DTEND;TZID=Europe/Brussels:20250522T160000Z
SUMMARY:eltec 2025
DESCRIPTION:https://www.google.com/maps/search/?api=1&query=Messe+Nürnberg%2C+Messezentrum+1%2C+90471+Nürnberg
END:VEVENT
END:VCALENDAR