BEGIN:VCALENDAR
VERSION:2.0
PRODID:-//InStaff und Jobs GmbH
BEGIN:VEVENT
UID:190944fbf00c5484ff204953f72a0a14@instaff.jobs
DTSTAMP:20260423T192222Z
LOCATION:Messezentrum Nürnberg\, Messezentrum 1\, 90471 Nürnberg
DTSTART;TZID=Europe/Brussels:20251028T070000Z
DTEND;TZID=Europe/Brussels:20251029T160000Z
SUMMARY:European Heat Pump Summit 2025
DESCRIPTION:https://www.google.com/maps/search/?api=1&query=Messezentrum+Nürnberg%2C+Messezentrum+1%2C+90471+Nürnberg
END:VEVENT
END:VCALENDAR