BEGIN:VCALENDAR
VERSION:2.0
PRODID:-//InStaff und Jobs GmbH
BEGIN:VEVENT
UID:c38d2809fbba8eb339ead5456116b325@instaff.jobs
DTSTAMP:20260423T191851Z
LOCATION:Messe Nürnberg\, Messezentrum 1\, 90471 Nürnberg
DTSTART;TZID=Europe/Brussels:20250625T070000Z
DTEND;TZID=Europe/Brussels:20250626T160000Z
SUMMARY:FeuerTrutz 2025
DESCRIPTION:https://www.google.com/maps/search/?api=1&query=Messe+Nürnberg%2C+Messezentrum+1%2C+90471+Nürnberg
END:VEVENT
END:VCALENDAR