BEGIN:VCALENDAR
VERSION:2.0
PRODID:-//InStaff und Jobs GmbH
BEGIN:VEVENT
UID:9382e13b1fdccda960669cc051c5822a@instaff.jobs
DTSTAMP:20260423T192148Z
LOCATION:Messe Nürnberg\, Messezentrum 1\, 90471 Nürnberg
DTSTART;TZID=Europe/Brussels:20251107T070000Z
DTEND;TZID=Europe/Brussels:20251109T160000Z
SUMMARY:Gin and Friends 2025
DESCRIPTION:https://www.google.com/maps/search/?api=1&query=Messe+Nürnberg%2C+Messezentrum+1%2C+90471+Nürnberg
END:VEVENT
END:VCALENDAR