BEGIN:VCALENDAR
VERSION:2.0
PRODID:-//InStaff und Jobs GmbH
BEGIN:VEVENT
UID:60ba49ed62a786a3e2334c814d1aca14@instaff.jobs
DTSTAMP:20260423T192020Z
LOCATION:Messe Nürnberg\, Messezentrum 1\, 90471 Nürnberg
DTSTART;TZID=Europe/Brussels:20250112T070000Z
DTEND;TZID=Europe/Brussels:20250114T160000Z
SUMMARY:HOGA 2025
DESCRIPTION:https://www.google.com/maps/search/?api=1&query=Messe+Nürnberg%2C+Messezentrum+1%2C+90471+Nürnberg
END:VEVENT
END:VCALENDAR