BEGIN:VCALENDAR
VERSION:2.0
PRODID:-//InStaff und Jobs GmbH
BEGIN:VEVENT
UID:5614a54b071e1304dd4c4cea12286746@instaff.jobs
DTSTAMP:20260423T154752Z
LOCATION:Messe Nürnberg\, Messezentrum 1\, 90471 Nürnberg
DTSTART;TZID=Europe/Brussels:20251101T070000Z
DTEND;TZID=Europe/Brussels:20251103T160000Z
SUMMARY:iENA 2025
DESCRIPTION:https://www.google.com/maps/search/?api=1&query=Messe+Nürnberg%2C+Messezentrum+1%2C+90471+Nürnberg
END:VEVENT
END:VCALENDAR