BEGIN:VCALENDAR
VERSION:2.0
PRODID:-//InStaff und Jobs GmbH
BEGIN:VEVENT
UID:ccb9e7a5a7493d5f355a998f70b2ed2a@instaff.jobs
DTSTAMP:20260423T191826Z
LOCATION:Messe Nürnberg\, Messezentrum 1\, 90471 Nürnberg
DTSTART;TZID=Europe/Brussels:20251014T070000Z
DTEND;TZID=Europe/Brussels:20251017T160000Z
SUMMARY:Interlift 2025
DESCRIPTION:https://www.google.com/maps/search/?api=1&query=Messe+Nürnberg%2C+Messezentrum+1%2C+90471+Nürnberg
END:VEVENT
END:VCALENDAR