BEGIN:VCALENDAR
VERSION:2.0
PRODID:-//InStaff und Jobs GmbH
BEGIN:VEVENT
UID:0d06fed584ec779b031b4b9f4d9d6077@instaff.jobs
DTSTAMP:20260423T192224Z
LOCATION:Messe Nürnberg\, Messezentrum 1\, 90471 Nürnberg
DTSTART;TZID=Europe/Brussels:20251007T070000Z
DTEND;TZID=Europe/Brussels:20251009T160000Z
SUMMARY:it-sa Expo&Congress 2025
DESCRIPTION:https://www.google.com/maps/search/?api=1&query=Messe+Nürnberg%2C+Messezentrum+1%2C+90471+Nürnberg
END:VEVENT
END:VCALENDAR