BEGIN:VCALENDAR
VERSION:2.0
PRODID:-//InStaff und Jobs GmbH
BEGIN:VEVENT
UID:bbb595fd0152a64522ce0d8780d89faa@instaff.jobs
DTSTAMP:20260423T191909Z
LOCATION:Nürnberg Convention Center NCC Ost\, Messezentrum\, 90471 Nürnberg
DTSTART;TZID=Europe/Brussels:20250923T070000Z
DTEND;TZID=Europe/Brussels:20250925T160000Z
SUMMARY:PARTEC 2025
DESCRIPTION:https://www.google.com/maps/search/?api=1&query=Nürnberg+Convention+Center+NCC+Ost%2C+Messezentrum%2C+90471+Nürnberg
END:VEVENT
END:VCALENDAR