BEGIN:VCALENDAR
VERSION:2.0
PRODID:-//InStaff und Jobs GmbH
BEGIN:VEVENT
UID:0bd0fde167e88023de66790af53abbc9@instaff.jobs
DTSTAMP:20260423T192149Z
LOCATION:Messe Nürnberg\, Messezentrum 1\, 90471 Nürnberg
DTSTART;TZID=Europe/Brussels:20250910T070000Z
DTEND;TZID=Europe/Brussels:20250911T160000Z
SUMMARY:PRO FachHANDEL 2025
DESCRIPTION:https://www.google.com/maps/search/?api=1&query=Messe+Nürnberg%2C+Messezentrum+1%2C+90471+Nürnberg
END:VEVENT
END:VCALENDAR