BEGIN:VCALENDAR
VERSION:2.0
PRODID:-//InStaff und Jobs GmbH
BEGIN:VEVENT
UID:aa5bf3914b894d4588dca43d970ea1fd@instaff.jobs
DTSTAMP:20260423T191828Z
LOCATION:Nürnberg Messe\, Karl-Schönleben-Str\. Messezentrum 1\, 90471 Nürnberg
DTSTART;TZID=Europe/Brussels:20251125T070000Z
DTEND;TZID=Europe/Brussels:20251127T160000Z
SUMMARY:SPS 2025
DESCRIPTION:https://www.google.com/maps/search/?api=1&query=Nürnberg+Messe%2C+Karl-Schönleben-Str.+Messezentrum+1%2C+90471+Nürnberg
END:VEVENT
END:VCALENDAR