BEGIN:VCALENDAR
VERSION:2.0
PRODID:-//InStaff und Jobs GmbH
BEGIN:VEVENT
UID:bd0a889aad9da978b65871b3bd5409b6@instaff.jobs
DTSTAMP:20260424T041759Z
LOCATION:Europa-Park\, Europa-Park-Straße 2\, 77977 Rust
DTSTART;TZID=Europe/Brussels:20250317T070000Z
DTEND;TZID=Europe/Brussels:20250320T160000Z
SUMMARY:CloudFest 2025
DESCRIPTION:https://www.google.com/maps/search/?api=1&query=Europa-Park%2C+Europa-Park-Straße+2%2C+77977+Rust
END:VEVENT
END:VCALENDAR