BEGIN:VCALENDAR
VERSION:2.0
PRODID:-//InStaff und Jobs GmbH
BEGIN:VEVENT
UID:bfef5bf91418df1a0518a557638eda9b@instaff.jobs
DTSTAMP:20260425T234514Z
LOCATION:tectake Arena\, Stettiner Straße 1\, 97072 Würzburg
DTSTART;TZID=Europe/Brussels:20251129T070000Z
DTEND;TZID=Europe/Brussels:20251129T160000Z
SUMMARY:ABI Zukunft Würzburg 2025
DESCRIPTION:https://www.google.com/maps/search/?api=1&query=tectake+Arena%2C+Stettiner+Straße+1%2C+97072+Würzburg
END:VEVENT
END:VCALENDAR