BEGIN:VCALENDAR
VERSION:2.0
PRODID:-//InStaff und Jobs GmbH
BEGIN:VEVENT
UID:65872ed5c3620e29fbe227e15b4be534@instaff.jobs
DTSTAMP:20260425T195841Z
LOCATION:tectake ARENA\, Stettiner Str\. 1\, 97072 Würzburg
DTSTART;TZID=Europe/Brussels:20251114T070000Z
DTEND;TZID=Europe/Brussels:20251114T160000Z
SUMMARY:parentum Würzburg 2025
DESCRIPTION:https://www.google.com/maps/search/?api=1&query=tectake+ARENA%2C+Stettiner+Str.+1%2C+97072+Würzburg
END:VEVENT
END:VCALENDAR