BEGIN:VCALENDAR
VERSION:2.0
PRODID:-//InStaff und Jobs GmbH
BEGIN:VEVENT
UID:6c351460ef51dfac91a50c130e5d59bc@instaff.jobs
DTSTAMP:20260422T045329Z
LOCATION:Stadthalle Aalen\, Berliner Pl\. 1\, 73430 Aalen
DTSTART;TZID=Europe/Brussels:20260505T070000Z
DTEND;TZID=Europe/Brussels:20260506T160000Z
SUMMARY:vocatium Aalen 2026
DESCRIPTION:https://www.google.com/maps/search/?api=1&query=Stadthalle+Aalen%2C+Berliner+Pl.+1%2C+73430+Aalen
END:VEVENT
END:VCALENDAR