BEGIN:VCALENDAR
VERSION:2.0
PRODID:-//InStaff und Jobs GmbH
BEGIN:VEVENT
UID:08bb3781f2bad5920fba87dd92ae41e6@instaff.jobs
DTSTAMP:20260420T074010Z
LOCATION:Cineplex\, Regensburger Straße 1\, 92224 Amberg
DTSTART;TZID=Europe/Brussels:20261014T070000Z
DTEND;TZID=Europe/Brussels:20261014T160000Z
SUMMARY:AZUBISPOT Amberg 2026
DESCRIPTION:https://www.google.com/maps/search/?api=1&query=Cineplex%2C+Regensburger+Straße+1%2C+92224+Amberg
END:VEVENT
END:VCALENDAR