BEGIN:VCALENDAR
VERSION:2.0
PRODID:-//InStaff und Jobs GmbH
BEGIN:VEVENT
UID:3512e5e01dc2013f90f880c12106bf11@instaff.jobs
DTSTAMP:20260423T012426Z
LOCATION:Messe Augsburg\, Am Messezentrum 5\, 86159 Augsburg
DTSTART;TZID=Europe/Brussels:20260116T070000Z
DTEND;TZID=Europe/Brussels:20260118T160000Z
SUMMARY:JAGEN UND FISCHEN 2026
DESCRIPTION:https://www.google.com/maps/search/?api=1&query=Messe+Augsburg%2C+Am+Messezentrum+5%2C+86159+Augsburg
END:VEVENT
END:VCALENDAR