BEGIN:VCALENDAR
VERSION:2.0
PRODID:-//InStaff und Jobs GmbH
BEGIN:VEVENT
UID:7e4a57f36453add6f341c7ab28653ddd@instaff.jobs
DTSTAMP:20260423T012345Z
LOCATION:Messe Augsburg\, Am Messezentrum 5\, 86159 Augsburg
DTSTART;TZID=Europe/Brussels:20260130T070000Z
DTEND;TZID=Europe/Brussels:20260201T160000Z
SUMMARY:VOLT Future Mobility 2026
DESCRIPTION:https://www.google.com/maps/search/?api=1&query=Messe+Augsburg%2C+Am+Messezentrum+5%2C+86159+Augsburg
END:VEVENT
END:VCALENDAR