BEGIN:VCALENDAR
VERSION:2.0
PRODID:-//InStaff und Jobs GmbH
BEGIN:VEVENT
UID:c59b174871278631a3fa6119551a1366@instaff.jobs
DTSTAMP:20260424T160517Z
LOCATION:Messe Berlin\, Messedamm 22\, 14055 Berlin
DTSTART;TZID=Europe/Brussels:20261013T070000Z
DTEND;TZID=Europe/Brussels:20261015T160000Z
SUMMARY:belektro 2026
DESCRIPTION:https://www.google.com/maps/search/?api=1&query=Messe+Berlin%2C+Messedamm+22%2C+14055+Berlin
END:VEVENT
END:VCALENDAR