BEGIN:VCALENDAR
VERSION:2.0
PRODID:-//InStaff und Jobs GmbH
BEGIN:VEVENT
UID:b07220851e5998f9d8f1bfb5f58d5bb6@instaff.jobs
DTSTAMP:20260423T211730Z
LOCATION:Messe Berlin\, Messedamm 22\, 14055 Berlin
DTSTART;TZID=Europe/Brussels:20260904T070000Z
DTEND;TZID=Europe/Brussels:20260908T160000Z
SUMMARY:IFA 2026
DESCRIPTION:https://www.google.com/maps/search/?api=1&query=Messe+Berlin%2C+Messedamm+22%2C+14055+Berlin
END:VEVENT
END:VCALENDAR