BEGIN:VCALENDAR
VERSION:2.0
PRODID:-//InStaff und Jobs GmbH
BEGIN:VEVENT
UID:bd727b91ef4652660319c3f13c1071c6@instaff.jobs
DTSTAMP:20260425T151346Z
LOCATION:Berlin ExpoCenter Airport\, Messestraße 1\, 12529 Schönefeld
DTSTART;TZID=Europe/Brussels:20260610T070000Z
DTEND;TZID=Europe/Brussels:20260616T160000Z
SUMMARY:ILA Berlin 2026
DESCRIPTION:https://www.google.com/maps/search/?api=1&query=Berlin+ExpoCenter+Airport%2C+Messestraße+1%2C+12529+Schönefeld
END:VEVENT
END:VCALENDAR