BEGIN:VCALENDAR
VERSION:2.0
PRODID:-//InStaff und Jobs GmbH
BEGIN:VEVENT
UID:af6b4a7a5546c8c61196a4fdbe8462ad@instaff.jobs
DTSTAMP:20260424T214024Z
LOCATION:Messe Berlin\, Messedamm 22\, 14055 Berlin
DTSTART;TZID=Europe/Brussels:20261114T070000Z
DTEND;TZID=Europe/Brussels:20261115T160000Z
SUMMARY:Numismata Berlin 2026
DESCRIPTION:https://www.google.com/maps/search/?api=1&query=Messe+Berlin%2C+Messedamm+22%2C+14055+Berlin
END:VEVENT
END:VCALENDAR