BEGIN:VCALENDAR
VERSION:2.0
PRODID:-//InStaff und Jobs GmbH
BEGIN:VEVENT
UID:c86fdb6dca90bd8d83d22bc0107814b9@instaff.jobs
DTSTAMP:20260423T154840Z
LOCATION:Messe Berlin\, Messedamm 22\, 14055 Berlin
DTSTART;TZID=Europe/Brussels:20261022T070000Z
DTEND;TZID=Europe/Brussels:20261025T160000Z
SUMMARY:Venus 2026
DESCRIPTION:https://www.google.com/maps/search/?api=1&query=Messe+Berlin%2C+Messedamm+22%2C+14055+Berlin
END:VEVENT
END:VCALENDAR