BEGIN:VCALENDAR
VERSION:2.0
PRODID:-//InStaff und Jobs GmbH
BEGIN:VEVENT
UID:6ebfb9725d39bb322554f68bc3d5496b@instaff.jobs
DTSTAMP:20260425T153732Z
LOCATION:Flughafen Tempelhof\, Tempelhofer Damm 45\, 12101 Berlin
DTSTART;TZID=Europe/Brussels:20260617T070000Z
DTEND;TZID=Europe/Brussels:20260618T160000Z
SUMMARY:vocatium Berlin I 2026
DESCRIPTION:https://www.google.com/maps/search/?api=1&query=Flughafen+Tempelhof%2C+Tempelhofer+Damm+45%2C+12101+Berlin
END:VEVENT
END:VCALENDAR