BEGIN:VCALENDAR
VERSION:2.0
PRODID:-//InStaff und Jobs GmbH
BEGIN:VEVENT
UID:9ce5fcf29a1d22d73146dc5a51b6dfe9@instaff.jobs
DTSTAMP:20260425T122101Z
LOCATION:Stadthalle Bielefeld\, Willy-Brandt-Platz 1\, 33602 Bielefeld
DTSTART;TZID=Europe/Brussels:20260124T070000Z
DTEND;TZID=Europe/Brussels:20260125T160000Z
SUMMARY:3 beruf & bildung Bielefeld 2026
DESCRIPTION:https://www.google.com/maps/search/?api=1&query=Stadthalle+Bielefeld%2C+Willy-Brandt-Platz+1%2C+33602+Bielefeld
END:VEVENT
END:VCALENDAR