BEGIN:VCALENDAR
VERSION:2.0
PRODID:-//InStaff und Jobs GmbH
BEGIN:VEVENT
UID:ae1a462f673d700d8fea2bb3fecc2744@instaff.jobs
DTSTAMP:20260425T122155Z
LOCATION:Stadthalle Bielefeld\, Willy-Brandt-Platz 1\, 33602 Bielefeld
DTSTART;TZID=Europe/Brussels:20260204T070000Z
DTEND;TZID=Europe/Brussels:20260204T160000Z
SUMMARY:GWW-NEWSWEEK Bielefeld 2026
DESCRIPTION:https://www.google.com/maps/search/?api=1&query=Stadthalle+Bielefeld%2C+Willy-Brandt-Platz+1%2C+33602+Bielefeld
END:VEVENT
END:VCALENDAR