BEGIN:VCALENDAR
VERSION:2.0
PRODID:-//InStaff und Jobs GmbH
BEGIN:VEVENT
UID:f57d7dc61ad54f44c7df27261a89d37c@instaff.jobs
DTSTAMP:20260425T122208Z
LOCATION:Ceciliengymnasium\, Niedermühlenkamp 5\, 33604 Bielefeld
DTSTART;TZID=Europe/Brussels:20260228T070000Z
DTEND;TZID=Europe/Brussels:20260228T160000Z
SUMMARY:JuBi – Die JugendBildungsmesse Bielefeld 2026
DESCRIPTION:https://www.google.com/maps/search/?api=1&query=Ceciliengymnasium%2C+Niedermühlenkamp+5%2C+33604+Bielefeld
END:VEVENT
END:VCALENDAR