BEGIN:VCALENDAR
VERSION:2.0
PRODID:-//InStaff und Jobs GmbH
BEGIN:VEVENT
UID:6fc01646f6f65f68813fd89a7efa3203@instaff.jobs
DTSTAMP:20260421T103311Z
LOCATION:Stadthalle Bielefeld\, Willy-Brandt-Platz 1\, 33602 Bielefeld
DTSTART;TZID=Europe/Brussels:20260623T070000Z
DTEND;TZID=Europe/Brussels:20260624T160000Z
SUMMARY:vocatium Bielefeld 2026
DESCRIPTION:https://www.google.com/maps/search/?api=1&query=Stadthalle+Bielefeld%2C+Willy-Brandt-Platz+1%2C+33602+Bielefeld
END:VEVENT
END:VCALENDAR