BEGIN:VCALENDAR
VERSION:2.0
PRODID:-//InStaff und Jobs GmbH
BEGIN:VEVENT
UID:9504a7eb7f8183f076961a796d258a78@instaff.jobs
DTSTAMP:20260426T031306Z
LOCATION:World Conference Center Bonn\, Platz der Vereinten Nationen 2\, 53113 Bonn
DTSTART;TZID=Europe/Brussels:20260930T070000Z
DTEND;TZID=Europe/Brussels:20261001T160000Z
SUMMARY:DVGW Kongress 2026
DESCRIPTION:https://www.google.com/maps/search/?api=1&query=World+Conference+Center+Bonn%2C+Platz+der+Vereinten+Nationen+2%2C+53113+Bonn
END:VEVENT
END:VCALENDAR