BEGIN:VCALENDAR
VERSION:2.0
PRODID:-//InStaff und Jobs GmbH
BEGIN:VEVENT
UID:af52c99f9aa26a7d47d0e4ba54e8fcf5@instaff.jobs
DTSTAMP:20260422T130803Z
LOCATION:Brückenforum Bonn\, Friedrich-Breuer-Straße 17\, 53225 Bonn
DTSTART;TZID=Europe/Brussels:20260519T070000Z
DTEND;TZID=Europe/Brussels:20260520T160000Z
SUMMARY:vocatium Bonn I 2026
DESCRIPTION:https://www.google.com/maps/search/?api=1&query=Brückenforum+Bonn%2C+Friedrich-Breuer-Straße+17%2C+53225+Bonn
END:VEVENT
END:VCALENDAR