BEGIN:VCALENDAR
VERSION:2.0
PRODID:-//InStaff und Jobs GmbH
BEGIN:VEVENT
UID:6b25209f95cff2186adb4e68ba269476@instaff.jobs
DTSTAMP:20260424T003655Z
LOCATION:Messe Bremen\, Findorffstraße 101\, 28215 Bremen
DTSTART;TZID=Europe/Brussels:20260116T070000Z
DTEND;TZID=Europe/Brussels:20260118T160000Z
SUMMARY:hanseBau Bremen 2026
DESCRIPTION:https://www.google.com/maps/search/?api=1&query=Messe+Bremen%2C+Findorffstraße+101%2C+28215+Bremen
END:VEVENT
END:VCALENDAR