BEGIN:VCALENDAR
VERSION:2.0
PRODID:-//InStaff und Jobs GmbH
BEGIN:VEVENT
UID:598367ad2620b609ac58544b2e97b4cd@instaff.jobs
DTSTAMP:20260424T003500Z
LOCATION:Congress Centrum Bremen\, Findorffstraße 101\, 28215 Bremen
DTSTART;TZID=Europe/Brussels:20260305T070000Z
DTEND;TZID=Europe/Brussels:20260306T160000Z
SUMMARY:Logistics Connect 2026
DESCRIPTION:https://www.google.com/maps/search/?api=1&query=Congress+Centrum+Bremen%2C+Findorffstraße+101%2C+28215+Bremen
END:VEVENT
END:VCALENDAR