BEGIN:VCALENDAR
VERSION:2.0
PRODID:-//InStaff und Jobs GmbH
BEGIN:VEVENT
UID:56f9322f3fa364dba0767d0cb192bfcc@instaff.jobs
DTSTAMP:20260424T235351Z
LOCATION:Kino Regina Ellwangen\, Karlstraße 12\, 73479 Ellwangen \(Jagst\)
DTSTART;TZID=Europe/Brussels:20261006T070000Z
DTEND;TZID=Europe/Brussels:20261006T160000Z
SUMMARY:AZUBISPOT Ellwangen 2026
DESCRIPTION:https://www.google.com/maps/search/?api=1&query=Kino+Regina+Ellwangen%2C+Karlstraße+12%2C+73479+Ellwangen+(Jagst)
END:VEVENT
END:VCALENDAR