BEGIN:VCALENDAR
VERSION:2.0
PRODID:-//InStaff und Jobs GmbH
BEGIN:VEVENT
UID:9039fe21e76914b43a53cf34a8ad8353@instaff.jobs
DTSTAMP:20260422T055803Z
LOCATION:Tagungsräume Erfurt\, Eislebener Str\. 1G\, 99086 Erfurt
DTSTART;TZID=Europe/Brussels:20260214T070000Z
DTEND;TZID=Europe/Brussels:20260214T160000Z
SUMMARY:JuBi – Die JugendBildungsmesse Erfurt 2026
DESCRIPTION:https://www.google.com/maps/search/?api=1&query=Tagungsräume+Erfurt%2C+Eislebener+Str.+1G%2C+99086+Erfurt
END:VEVENT
BEGIN:VEVENT
UID:20c5617a5401af0c634402649667cc12@instaff.jobs
DTSTAMP:20260422T055803Z
LOCATION:Messe Erfurt\, Gothaer Str\. 34\, 99094 Erfurt
DTSTART;TZID=Europe/Brussels:20260321T070000Z
DTEND;TZID=Europe/Brussels:20260322T160000Z
SUMMARY:Motorradmesse Erfurt 2026
DESCRIPTION:https://www.google.com/maps/search/?api=1&query=Messe+Erfurt%2C+Gothaer+Str.+34%2C+99094+Erfurt
END:VEVENT
BEGIN:VEVENT
UID:b755c8673bb6f78db31912181c0bd048@instaff.jobs
DTSTAMP:20260422T055803Z
LOCATION:Messe Erfurt\, Gothaer Str\. 34\, 99094 Erfurt
DTSTART;TZID=Europe/Brussels:20260327T070000Z
DTEND;TZID=Europe/Brussels:20260329T160000Z
SUMMARY:FORST³ 2026
DESCRIPTION:https://www.google.com/maps/search/?api=1&query=Messe+Erfurt%2C+Gothaer+Str.+34%2C+99094+Erfurt
END:VEVENT
BEGIN:VEVENT
UID:138e9bac96e9afd93a1be43583564aba@instaff.jobs
DTSTAMP:20260422T055803Z
LOCATION:Messe Erfurt\, Gothaer Str\. 34\, 99094 Erfurt
DTSTART;TZID=Europe/Brussels:20260327T070000Z
DTEND;TZID=Europe/Brussels:20260329T160000Z
SUMMARY:Reiten - Jagen - Fischen 2026
DESCRIPTION:https://www.google.com/maps/search/?api=1&query=Messe+Erfurt%2C+Gothaer+Str.+34%2C+99094+Erfurt
END:VEVENT
BEGIN:VEVENT
UID:3f9d5317e936e4928a28464ba96df7c2@instaff.jobs
DTSTAMP:20260422T055803Z
LOCATION:Steigerwaldstadion\, Mozartallee 3\, 99096 Erfurt
DTSTART;TZID=Europe/Brussels:20260328T070000Z
DTEND;TZID=Europe/Brussels:20260328T160000Z
SUMMARY:Jobmesse Erfurt 2026
DESCRIPTION:https://www.google.com/maps/search/?api=1&query=Steigerwaldstadion%2C+Mozartallee+3%2C+99096+Erfurt
END:VEVENT
BEGIN:VEVENT
UID:5aeba296989283cec598cbc2eb05a772@instaff.jobs
DTSTAMP:20260422T055803Z
LOCATION:Messe Erfurt\, Gothaer Str\. 34\, 99094 Erfurt
DTSTART;TZID=Europe/Brussels:20260505T070000Z
DTEND;TZID=Europe/Brussels:20260506T160000Z
SUMMARY:Quantum Photonics 2026
DESCRIPTION:https://www.google.com/maps/search/?api=1&query=Messe+Erfurt%2C+Gothaer+Str.+34%2C+99094+Erfurt
END:VEVENT
BEGIN:VEVENT
UID:c3c8d6530fafb63c1c99f653b3217e22@instaff.jobs
DTSTAMP:20260422T055803Z
LOCATION:Steigerwaldstadion\, Mozartallee 3\, 99096 Erfurt
DTSTART;TZID=Europe/Brussels:20260505T070000Z
DTEND;TZID=Europe/Brussels:20260506T160000Z
SUMMARY:vocatium Erfurt 2026
DESCRIPTION:https://www.google.com/maps/search/?api=1&query=Steigerwaldstadion%2C+Mozartallee+3%2C+99096+Erfurt
END:VEVENT
BEGIN:VEVENT
UID:afb2cc9c322c80a95e24064774d9507e@instaff.jobs
DTSTAMP:20260422T055803Z
LOCATION:Messe Erfurt\, Gothaer Str\. 34\, 99094 Erfurt
DTSTART;TZID=Europe/Brussels:20260505T070000Z
DTEND;TZID=Europe/Brussels:20260507T160000Z
SUMMARY:rapid tech 3D 2026
DESCRIPTION:https://www.google.com/maps/search/?api=1&query=Messe+Erfurt%2C+Gothaer+Str.+34%2C+99094+Erfurt
END:VEVENT
BEGIN:VEVENT
UID:d1cbb9f98a4005880d389c1bd6b3f943@instaff.jobs
DTSTAMP:20260422T055803Z
LOCATION:Messe Erfurt\, Gothaer Straße 34\, 99094 Erfurt
DTSTART;TZID=Europe/Brussels:20260925T070000Z
DTEND;TZID=Europe/Brussels:20260927T160000Z
SUMMARY:Grüne Tage Thüringen 2026
DESCRIPTION:https://www.google.com/maps/search/?api=1&query=Messe+Erfurt%2C+Gothaer+Straße+34%2C+99094+Erfurt
END:VEVENT
BEGIN:VEVENT
UID:35ebcae0a9627c674f5bf588f4b086b2@instaff.jobs
DTSTAMP:20260422T055803Z
LOCATION:Steigerwaldstadion\, Mozartallee 3\, 99096 Erfurt
DTSTART;TZID=Europe/Brussels:20261001T070000Z
DTEND;TZID=Europe/Brussels:20261001T160000Z
SUMMARY:Jobmesse Erfurt Herbst 2026
DESCRIPTION:https://www.google.com/maps/search/?api=1&query=Steigerwaldstadion%2C+Mozartallee+3%2C+99096+Erfurt
END:VEVENT
BEGIN:VEVENT
UID:e0ec8f44ccf15235879a61e6f1f1feee@instaff.jobs
DTSTAMP:20260422T055803Z
LOCATION:Messe Erfurt\, Gothaer Str\. 34\, 99094 Erfurt
DTSTART;TZID=Europe/Brussels:20261002T070000Z
DTEND;TZID=Europe/Brussels:20261004T160000Z
SUMMARY:Country Messe Erfurt 2026
DESCRIPTION:https://www.google.com/maps/search/?api=1&query=Messe+Erfurt%2C+Gothaer+Str.+34%2C+99094+Erfurt
END:VEVENT
BEGIN:VEVENT
UID:be86662b346a7afe133be4d2c15f6787@instaff.jobs
DTSTAMP:20260422T055803Z
LOCATION:Messe Erfurt\, Gothaer Str\. 34\, 99094 Erfurt
DTSTART;TZID=Europe/Brussels:20261029T070000Z
DTEND;TZID=Europe/Brussels:20261101T160000Z
SUMMARY:Reisen & Caravan 2026
DESCRIPTION:https://www.google.com/maps/search/?api=1&query=Messe+Erfurt%2C+Gothaer+Str.+34%2C+99094+Erfurt
END:VEVENT
BEGIN:VEVENT
UID:8bbf111176652b3fe537d80715bba4bd@instaff.jobs
DTSTAMP:20260422T055803Z
LOCATION:Messe Erfurt\, Gothaer Str\. 34\, 99094 Erfurt
DTSTART;TZID=Europe/Brussels:20261106T070000Z
DTEND;TZID=Europe/Brussels:20261108T160000Z
SUMMARY:Haus Bau Ambiente 2026
DESCRIPTION:https://www.google.com/maps/search/?api=1&query=Messe+Erfurt%2C+Gothaer+Str.+34%2C+99094+Erfurt
END:VEVENT
BEGIN:VEVENT
UID:01d653501c3342f218f61a649137fd83@instaff.jobs
DTSTAMP:20260422T055803Z
LOCATION:Messe Erfurt\, Gothaer Str\. 34\, 99094 Erfurt
DTSTART;TZID=Europe/Brussels:20261118T070000Z
DTEND;TZID=Europe/Brussels:20261119T160000Z
SUMMARY:Messe KOMMUNAL 2026
DESCRIPTION:https://www.google.com/maps/search/?api=1&query=Messe+Erfurt%2C+Gothaer+Str.+34%2C+99094+Erfurt
END:VEVENT
END:VCALENDAR